BEGIN:VCALENDAR
VERSION:2.0
PRODID:-//Veterans For Fishing - ECPv6.15.0.1//NONSGML v1.0//EN
CALSCALE:GREGORIAN
METHOD:PUBLISH
X-WR-CALNAME:Veterans For Fishing
X-ORIGINAL-URL:https://veteransforfishing.org.au
X-WR-CALDESC:Events for Veterans For Fishing
REFRESH-INTERVAL;VALUE=DURATION:PT1H
X-Robots-Tag:noindex
X-PUBLISHED-TTL:PT1H
BEGIN:VTIMEZONE
TZID:Australia/Melbourne
BEGIN:STANDARD
TZOFFSETFROM:+1100
TZOFFSETTO:+1000
TZNAME:AEST
DTSTART:20250405T160000
END:STANDARD
BEGIN:DAYLIGHT
TZOFFSETFROM:+1000
TZOFFSETTO:+1100
TZNAME:AEDT
DTSTART:20251004T160000
END:DAYLIGHT
END:VTIMEZONE
BEGIN:VEVENT
DTSTART;TZID=Australia/Melbourne:20250516T140000
DTEND;TZID=Australia/Melbourne:20250518T110000
DTSTAMP:20260421T181126
CREATED:20250430T043220Z
LAST-MODIFIED:20250430T043635Z
UID:10000001-1747404000-1747566000@veteransforfishing.org.au
SUMMARY:Lake Eildon Fishing Challenge
DESCRIPTION:We will have two teams competing please send through expressions of interest\, we have limited spots available. Sorry but all positions taken for this one.
URL:https://veteransforfishing.org.au/event/lake-eildon-fishing-challenge/
LOCATION:Jerusalem Creek Marina & Holiday Park\, 501 Jerusalem Creek Rd\, Eildon\, VIC\, 3713\, Australia
ATTACH;FMTTYPE=image/jpeg:https://veteransforfishing.org.au/wp-content/uploads/2025/04/lake-eildon.jpg
GEO:-37.2501696;145.9589483
X-APPLE-STRUCTURED-LOCATION;VALUE=URI;X-ADDRESS=Jerusalem Creek Marina & Holiday Park 501 Jerusalem Creek Rd Eildon VIC 3713 Australia;X-APPLE-RADIUS=500;X-TITLE=501 Jerusalem Creek Rd:geo:145.9589483,-37.2501696
END:VEVENT
END:VCALENDAR